BEGIN:VCALENDAR
VERSION:2.0
PRODID:-//Northplace Church - ECPv6.15.20//NONSGML v1.0//EN
CALSCALE:GREGORIAN
METHOD:PUBLISH
X-WR-CALNAME:Northplace Church
X-ORIGINAL-URL:https://northplacechurch.co.za
X-WR-CALDESC:Events for Northplace Church
REFRESH-INTERVAL;VALUE=DURATION:PT1H
X-Robots-Tag:noindex
X-PUBLISHED-TTL:PT1H
BEGIN:VTIMEZONE
TZID:Africa/Johannesburg
BEGIN:STANDARD
TZOFFSETFROM:+0200
TZOFFSETTO:+0200
TZNAME:SAST
DTSTART:20250101T000000
END:STANDARD
END:VTIMEZONE
BEGIN:VEVENT
DTSTART;TZID=Africa/Johannesburg:20260222T090000
DTEND;TZID=Africa/Johannesburg:20260222T103000
DTSTAMP:20260422T092548
CREATED:20250601T210729Z
LAST-MODIFIED:20260202T094107Z
UID:10000777-1771750800-1771756200@northplacechurch.co.za
SUMMARY:Church Service
DESCRIPTION:We gather every Sunday from 9:00 to 10:30am for a time of worship\, prayer\, and teaching. You will be welcomed by our smiling greeters and offered free coffee from our hospitality team. The atmosphere at Northplace is warm and family-friendly\, with Kids Church available from 8:45am on the right side of the building. \nPlan to arrive a few minutes early to check your children into their classrooms and find a seat in the main hall. Stop by our Guest Connect booth after service\, or visit Urban Tribes Coffee Co for your favourite coffee drinks before you leave.
URL:https://northplacechurch.co.za/event/church-service-2/2026-02-22/
CATEGORIES:Church
ATTACH;FMTTYPE=image/jpeg:https://northplacechurch.co.za/wp-content/uploads/2024/09/NP-June2023-043-1.jpg
END:VEVENT
BEGIN:VEVENT
DTSTART;TZID=Africa/Johannesburg:20260222T110000
DTEND;TZID=Africa/Johannesburg:20260222T123000
DTSTAMP:20260422T092548
CREATED:20250601T213548Z
LAST-MODIFIED:20260401T095754Z
UID:10000765-1771758000-1771763400@northplacechurch.co.za
SUMMARY:Church Service
DESCRIPTION:We gather every Sunday from 11:00 to 12:30am for a time of worship\, prayer\, and teaching. You will be welcomed by our smiling greeters and offered free coffee from our hospitality team. The atmosphere at Northplace is warm and family-friendly\, with Kids Church available from 10:45am on the right side of the building. \nPlan to arrive a few minutes early to check your children into their classrooms and find a seat in the main hall. Stop by our Guest Connect booth after service\, or visit Urban Tribes Coffee Co for your favourite coffee drinks before you leave.
URL:https://northplacechurch.co.za/event/church-service-3/2026-02-22/
CATEGORIES:Church
ATTACH;FMTTYPE=image/jpeg:https://northplacechurch.co.za/wp-content/uploads/2024/09/NP-June2023-043-1.jpg
END:VEVENT
BEGIN:VEVENT
DTSTART;TZID=Africa/Johannesburg:20260222T170000
DTEND;TZID=Africa/Johannesburg:20260222T180000
DTSTAMP:20260422T092548
CREATED:20260204T115917Z
LAST-MODIFIED:20260204T120528Z
UID:10000907-1771779600-1771783200@northplacechurch.co.za
SUMMARY:Vision Sunday
DESCRIPTION:We are making room for BIG things in 2026! Join us on 22 February at 5pm for Vision Sunday to hear how we are building the Kingdom of God this year and celebrate with us\, Northplace style with food and fun to follow!
URL:https://northplacechurch.co.za/event/graduation-service/
CATEGORIES:Church
ATTACH;FMTTYPE=image/jpeg:https://northplacechurch.co.za/wp-content/uploads/2026/02/WhatsApp-Image-2026-02-04-at-12.56.17.jpeg
END:VEVENT
END:VCALENDAR