BEGIN:VCALENDAR
VERSION:2.0
PRODID:-//Northplace Church - ECPv6.15.20//NONSGML v1.0//EN
CALSCALE:GREGORIAN
METHOD:PUBLISH
X-WR-CALNAME:Northplace Church
X-ORIGINAL-URL:https://northplacechurch.co.za
X-WR-CALDESC:Events for Northplace Church
REFRESH-INTERVAL;VALUE=DURATION:PT1H
X-Robots-Tag:noindex
X-PUBLISHED-TTL:PT1H
BEGIN:VTIMEZONE
TZID:Africa/Johannesburg
BEGIN:STANDARD
TZOFFSETFROM:+0200
TZOFFSETTO:+0200
TZNAME:SAST
DTSTART:20250101T000000
END:STANDARD
END:VTIMEZONE
BEGIN:VEVENT
DTSTART;TZID=Africa/Johannesburg:20260215T093000
DTEND;TZID=Africa/Johannesburg:20260215T110000
DTSTAMP:20260422T194138
CREATED:20260202T114807Z
LAST-MODIFIED:20260202T114807Z
UID:10000902-1771147800-1771153200@northplacechurch.co.za
SUMMARY:Graduation Service
DESCRIPTION:We gather every Sunday for a time of worship\, prayer\, and teaching. You will be welcomed by our smiling greeters and offered free coffee from our hospitality team. The atmosphere at Northplace is warm and family-friendly\, with Kids Church available from 10:45am on the right side of the building. \nPlan to arrive a few minutes early to check your children into their classrooms and find a seat in the main hall. Stop by our Guest Connect booth after service\, or visit Urban Tribes Coffee Co for your favourite coffee drinks before you leave.
URL:https://northplacechurch.co.za/event/church-service-4-2/2026-02-15/1/
CATEGORIES:Church
ATTACH;FMTTYPE=image/png:https://northplacechurch.co.za/wp-content/uploads/2026/02/Gradauation-Sunday.png
END:VEVENT
BEGIN:VEVENT
DTSTART;TZID=Africa/Johannesburg:20260215T110000
DTEND;TZID=Africa/Johannesburg:20260215T123000
DTSTAMP:20260422T194138
CREATED:20260202T114807Z
LAST-MODIFIED:20260202T114807Z
UID:10000903-1771153200-1771158600@northplacechurch.co.za
SUMMARY:Graduation Service
DESCRIPTION:We gather every Sunday for a time of worship\, prayer\, and teaching. You will be welcomed by our smiling greeters and offered free coffee from our hospitality team. The atmosphere at Northplace is warm and family-friendly\, with Kids Church available from 10:45am on the right side of the building. \nPlan to arrive a few minutes early to check your children into their classrooms and find a seat in the main hall. Stop by our Guest Connect booth after service\, or visit Urban Tribes Coffee Co for your favourite coffee drinks before you leave.
URL:https://northplacechurch.co.za/event/church-service-4-2/2026-02-15/2/
CATEGORIES:Church
ATTACH;FMTTYPE=image/png:https://northplacechurch.co.za/wp-content/uploads/2026/02/Gradauation-Sunday.png
END:VEVENT
END:VCALENDAR