BEGIN:VCALENDAR
VERSION:2.0
PRODID:-//Northplace Church - ECPv6.15.20//NONSGML v1.0//EN
CALSCALE:GREGORIAN
METHOD:PUBLISH
X-WR-CALNAME:Northplace Church
X-ORIGINAL-URL:https://northplacechurch.co.za
X-WR-CALDESC:Events for Northplace Church
REFRESH-INTERVAL;VALUE=DURATION:PT1H
X-Robots-Tag:noindex
X-PUBLISHED-TTL:PT1H
BEGIN:VTIMEZONE
TZID:Africa/Johannesburg
BEGIN:STANDARD
TZOFFSETFROM:+0200
TZOFFSETTO:+0200
TZNAME:SAST
DTSTART:20250101T000000
END:STANDARD
END:VTIMEZONE
BEGIN:VEVENT
DTSTART;TZID=Africa/Johannesburg:20260301T090000
DTEND;TZID=Africa/Johannesburg:20260301T103000
DTSTAMP:20260421T115512
CREATED:20250601T210729Z
LAST-MODIFIED:20260202T094107Z
UID:10000778-1772355600-1772361000@northplacechurch.co.za
SUMMARY:Church Service
DESCRIPTION:We gather every Sunday from 9:00 to 10:30am for a time of worship\, prayer\, and teaching. You will be welcomed by our smiling greeters and offered free coffee from our hospitality team. The atmosphere at Northplace is warm and family-friendly\, with Kids Church available from 8:45am on the right side of the building. \nPlan to arrive a few minutes early to check your children into their classrooms and find a seat in the main hall. Stop by our Guest Connect booth after service\, or visit Urban Tribes Coffee Co for your favourite coffee drinks before you leave.
URL:https://northplacechurch.co.za/event/church-service-2/2026-03-01/
CATEGORIES:Church
ATTACH;FMTTYPE=image/jpeg:https://northplacechurch.co.za/wp-content/uploads/2024/09/NP-June2023-043-1.jpg
END:VEVENT
BEGIN:VEVENT
DTSTART;TZID=Africa/Johannesburg:20260301T110000
DTEND;TZID=Africa/Johannesburg:20260301T123000
DTSTAMP:20260421T115512
CREATED:20250601T213548Z
LAST-MODIFIED:20260401T095754Z
UID:10000766-1772362800-1772368200@northplacechurch.co.za
SUMMARY:Church Service
DESCRIPTION:We gather every Sunday from 11:00 to 12:30am for a time of worship\, prayer\, and teaching. You will be welcomed by our smiling greeters and offered free coffee from our hospitality team. The atmosphere at Northplace is warm and family-friendly\, with Kids Church available from 10:45am on the right side of the building. \nPlan to arrive a few minutes early to check your children into their classrooms and find a seat in the main hall. Stop by our Guest Connect booth after service\, or visit Urban Tribes Coffee Co for your favourite coffee drinks before you leave.
URL:https://northplacechurch.co.za/event/church-service-3/2026-03-01/
CATEGORIES:Church
ATTACH;FMTTYPE=image/jpeg:https://northplacechurch.co.za/wp-content/uploads/2024/09/NP-June2023-043-1.jpg
END:VEVENT
BEGIN:VEVENT
DTSTART;TZID=Africa/Johannesburg:20260308T090000
DTEND;TZID=Africa/Johannesburg:20260308T103000
DTSTAMP:20260421T115512
CREATED:20250601T210729Z
LAST-MODIFIED:20260202T094107Z
UID:10000779-1772960400-1772965800@northplacechurch.co.za
SUMMARY:Church Service
DESCRIPTION:We gather every Sunday from 9:00 to 10:30am for a time of worship\, prayer\, and teaching. You will be welcomed by our smiling greeters and offered free coffee from our hospitality team. The atmosphere at Northplace is warm and family-friendly\, with Kids Church available from 8:45am on the right side of the building. \nPlan to arrive a few minutes early to check your children into their classrooms and find a seat in the main hall. Stop by our Guest Connect booth after service\, or visit Urban Tribes Coffee Co for your favourite coffee drinks before you leave.
URL:https://northplacechurch.co.za/event/church-service-2/2026-03-08/
CATEGORIES:Church
ATTACH;FMTTYPE=image/jpeg:https://northplacechurch.co.za/wp-content/uploads/2024/09/NP-June2023-043-1.jpg
END:VEVENT
BEGIN:VEVENT
DTSTART;TZID=Africa/Johannesburg:20260308T110000
DTEND;TZID=Africa/Johannesburg:20260308T123000
DTSTAMP:20260421T115512
CREATED:20250601T213548Z
LAST-MODIFIED:20260401T095754Z
UID:10000767-1772967600-1772973000@northplacechurch.co.za
SUMMARY:Church Service
DESCRIPTION:We gather every Sunday from 11:00 to 12:30am for a time of worship\, prayer\, and teaching. You will be welcomed by our smiling greeters and offered free coffee from our hospitality team. The atmosphere at Northplace is warm and family-friendly\, with Kids Church available from 10:45am on the right side of the building. \nPlan to arrive a few minutes early to check your children into their classrooms and find a seat in the main hall. Stop by our Guest Connect booth after service\, or visit Urban Tribes Coffee Co for your favourite coffee drinks before you leave.
URL:https://northplacechurch.co.za/event/church-service-3/2026-03-08/
CATEGORIES:Church
ATTACH;FMTTYPE=image/jpeg:https://northplacechurch.co.za/wp-content/uploads/2024/09/NP-June2023-043-1.jpg
END:VEVENT
BEGIN:VEVENT
DTSTART;TZID=Africa/Johannesburg:20260315T090000
DTEND;TZID=Africa/Johannesburg:20260315T103000
DTSTAMP:20260421T115512
CREATED:20250601T210729Z
LAST-MODIFIED:20260202T094107Z
UID:10000780-1773565200-1773570600@northplacechurch.co.za
SUMMARY:Church Service
DESCRIPTION:We gather every Sunday from 9:00 to 10:30am for a time of worship\, prayer\, and teaching. You will be welcomed by our smiling greeters and offered free coffee from our hospitality team. The atmosphere at Northplace is warm and family-friendly\, with Kids Church available from 8:45am on the right side of the building. \nPlan to arrive a few minutes early to check your children into their classrooms and find a seat in the main hall. Stop by our Guest Connect booth after service\, or visit Urban Tribes Coffee Co for your favourite coffee drinks before you leave.
URL:https://northplacechurch.co.za/event/church-service-2/2026-03-15/
CATEGORIES:Church
ATTACH;FMTTYPE=image/jpeg:https://northplacechurch.co.za/wp-content/uploads/2024/09/NP-June2023-043-1.jpg
END:VEVENT
BEGIN:VEVENT
DTSTART;TZID=Africa/Johannesburg:20260315T110000
DTEND;TZID=Africa/Johannesburg:20260315T123000
DTSTAMP:20260421T115512
CREATED:20250601T213548Z
LAST-MODIFIED:20260401T095754Z
UID:10000768-1773572400-1773577800@northplacechurch.co.za
SUMMARY:Church Service
DESCRIPTION:We gather every Sunday from 11:00 to 12:30am for a time of worship\, prayer\, and teaching. You will be welcomed by our smiling greeters and offered free coffee from our hospitality team. The atmosphere at Northplace is warm and family-friendly\, with Kids Church available from 10:45am on the right side of the building. \nPlan to arrive a few minutes early to check your children into their classrooms and find a seat in the main hall. Stop by our Guest Connect booth after service\, or visit Urban Tribes Coffee Co for your favourite coffee drinks before you leave.
URL:https://northplacechurch.co.za/event/church-service-3/2026-03-15/
CATEGORIES:Church
ATTACH;FMTTYPE=image/jpeg:https://northplacechurch.co.za/wp-content/uploads/2024/09/NP-June2023-043-1.jpg
END:VEVENT
BEGIN:VEVENT
DTSTART;TZID=Africa/Johannesburg:20260322T090000
DTEND;TZID=Africa/Johannesburg:20260322T103000
DTSTAMP:20260421T115512
CREATED:20250601T210729Z
LAST-MODIFIED:20260202T094107Z
UID:10000781-1774170000-1774175400@northplacechurch.co.za
SUMMARY:Church Service
DESCRIPTION:We gather every Sunday from 9:00 to 10:30am for a time of worship\, prayer\, and teaching. You will be welcomed by our smiling greeters and offered free coffee from our hospitality team. The atmosphere at Northplace is warm and family-friendly\, with Kids Church available from 8:45am on the right side of the building. \nPlan to arrive a few minutes early to check your children into their classrooms and find a seat in the main hall. Stop by our Guest Connect booth after service\, or visit Urban Tribes Coffee Co for your favourite coffee drinks before you leave.
URL:https://northplacechurch.co.za/event/church-service-2/2026-03-22/
CATEGORIES:Church
ATTACH;FMTTYPE=image/jpeg:https://northplacechurch.co.za/wp-content/uploads/2024/09/NP-June2023-043-1.jpg
END:VEVENT
BEGIN:VEVENT
DTSTART;TZID=Africa/Johannesburg:20260322T110000
DTEND;TZID=Africa/Johannesburg:20260322T123000
DTSTAMP:20260421T115512
CREATED:20250601T213548Z
LAST-MODIFIED:20260401T095754Z
UID:10000769-1774177200-1774182600@northplacechurch.co.za
SUMMARY:Church Service
DESCRIPTION:We gather every Sunday from 11:00 to 12:30am for a time of worship\, prayer\, and teaching. You will be welcomed by our smiling greeters and offered free coffee from our hospitality team. The atmosphere at Northplace is warm and family-friendly\, with Kids Church available from 10:45am on the right side of the building. \nPlan to arrive a few minutes early to check your children into their classrooms and find a seat in the main hall. Stop by our Guest Connect booth after service\, or visit Urban Tribes Coffee Co for your favourite coffee drinks before you leave.
URL:https://northplacechurch.co.za/event/church-service-3/2026-03-22/
CATEGORIES:Church
ATTACH;FMTTYPE=image/jpeg:https://northplacechurch.co.za/wp-content/uploads/2024/09/NP-June2023-043-1.jpg
END:VEVENT
BEGIN:VEVENT
DTSTART;TZID=Africa/Johannesburg:20260329T090000
DTEND;TZID=Africa/Johannesburg:20260329T103000
DTSTAMP:20260421T115512
CREATED:20260320T100656Z
LAST-MODIFIED:20260320T100656Z
UID:10000782-1774774800-1774780200@northplacechurch.co.za
SUMMARY:Palm Sunday Service
DESCRIPTION:We gather every Sunday from 9:00 to 10:30am for a time of worship\, prayer\, and teaching. You will be welcomed by our smiling greeters and offered free coffee from our hospitality team. The atmosphere at Northplace is warm and family-friendly\, with Kids Church available from 8:45am on the right side of the building. \nPlan to arrive a few minutes early to check your children into their classrooms and find a seat in the main hall. Stop by our Guest Connect booth after service\, or visit Urban Tribes Coffee Co for your favourite coffee drinks before you leave.
URL:https://northplacechurch.co.za/event/church-service-2-3/
CATEGORIES:Church
ATTACH;FMTTYPE=image/png:https://northplacechurch.co.za/wp-content/uploads/2025/06/Easter-Title-2026-1.png
END:VEVENT
BEGIN:VEVENT
DTSTART;TZID=Africa/Johannesburg:20260329T110000
DTEND;TZID=Africa/Johannesburg:20260329T123000
DTSTAMP:20260421T115512
CREATED:20260320T101839Z
LAST-MODIFIED:20260320T105015Z
UID:10000770-1774782000-1774787400@northplacechurch.co.za
SUMMARY:Palm Sunday Sevice
DESCRIPTION:We gather every Sunday from 11:00 to 12:30am for a time of worship\, prayer\, and teaching. You will be welcomed by our smiling greeters and offered free coffee from our hospitality team. The atmosphere at Northplace is warm and family-friendly\, with Kids Church available from 10:45am on the right side of the building. \nPlan to arrive a few minutes early to check your children into their classrooms and find a seat in the main hall. Stop by our Guest Connect booth after service\, or visit Urban Tribes Coffee Co for your favourite coffee drinks before you leave.
URL:https://northplacechurch.co.za/event/church-service-3-2/
CATEGORIES:Church
ATTACH;FMTTYPE=image/png:https://northplacechurch.co.za/wp-content/uploads/2025/06/Easter-Title-2026-1.png
END:VEVENT
END:VCALENDAR